BEGIN:VCALENDAR
VERSION:2.0
PRODID:-//Maldon United Reformed Church - ECPv6.15.17.1//NONSGML v1.0//EN
CALSCALE:GREGORIAN
METHOD:PUBLISH
X-WR-CALNAME:Maldon United Reformed Church
X-ORIGINAL-URL:https://maldonurc.org.uk
X-WR-CALDESC:Events for Maldon United Reformed Church
REFRESH-INTERVAL;VALUE=DURATION:PT1H
X-Robots-Tag:noindex
X-PUBLISHED-TTL:PT1H
BEGIN:VTIMEZONE
TZID:Europe/London
BEGIN:DAYLIGHT
TZOFFSETFROM:+0000
TZOFFSETTO:+0100
TZNAME:BST
DTSTART:20240331T010000
END:DAYLIGHT
BEGIN:STANDARD
TZOFFSETFROM:+0100
TZOFFSETTO:+0000
TZNAME:GMT
DTSTART:20241027T010000
END:STANDARD
BEGIN:DAYLIGHT
TZOFFSETFROM:+0000
TZOFFSETTO:+0100
TZNAME:BST
DTSTART:20250330T010000
END:DAYLIGHT
BEGIN:STANDARD
TZOFFSETFROM:+0100
TZOFFSETTO:+0000
TZNAME:GMT
DTSTART:20251026T010000
END:STANDARD
BEGIN:DAYLIGHT
TZOFFSETFROM:+0000
TZOFFSETTO:+0100
TZNAME:BST
DTSTART:20260329T010000
END:DAYLIGHT
BEGIN:STANDARD
TZOFFSETFROM:+0100
TZOFFSETTO:+0000
TZNAME:GMT
DTSTART:20261025T010000
END:STANDARD
END:VTIMEZONE
BEGIN:VEVENT
DTSTART;TZID=Europe/London:20250405T100000
DTEND;TZID=Europe/London:20250405T120000
DTSTAMP:20260425T124115
CREATED:20250314T182732Z
LAST-MODIFIED:20250314T182736Z
UID:1931-1743847200-1743854400@maldonurc.org.uk
SUMMARY:Free Children's Easter Crafts Morning
DESCRIPTION:Our popular children’s crafts morning returns\, with an Easter theme! Come along and join in with crafts and activities to take home\, free of charge. \n\n\n\nChildren aged six and over can be left\, subject to numbers; younger children must be accompanied by someone over 16. \n\n\n\nFree refreshments for adults and children. \n\n\n\nThis event takes place in the church hall\, please use the rear door. Car parking is very limited on site\, but there is free parking at the Plume School at weekends\, or paid parking very close by in Butt Lane or White Horse car parks.
URL:https://maldonurc.org.uk/event/free-childrens-easter-crafts-morning-2/
LOCATION:Maldon URC Hall\, Market Hill\, Maldon\, Essex\, CM9 4PZ\, United Kingdom
CATEGORIES:Children's Event
ATTACH;FMTTYPE=image/jpeg:https://maldonurc.org.uk/wp-content/uploads/2023/03/craft-morning.jpeg
END:VEVENT
END:VCALENDAR