BEGIN:VCALENDAR
VERSION:2.0
PRODID:-//Maldon United Reformed Church - ECPv6.15.17.1//NONSGML v1.0//EN
CALSCALE:GREGORIAN
METHOD:PUBLISH
X-ORIGINAL-URL:https://maldonurc.org.uk
X-WR-CALDESC:Events for Maldon United Reformed Church
REFRESH-INTERVAL;VALUE=DURATION:PT1H
X-Robots-Tag:noindex
X-PUBLISHED-TTL:PT1H
BEGIN:VTIMEZONE
TZID:Europe/London
BEGIN:DAYLIGHT
TZOFFSETFROM:+0000
TZOFFSETTO:+0100
TZNAME:BST
DTSTART:20240331T010000
END:DAYLIGHT
BEGIN:STANDARD
TZOFFSETFROM:+0100
TZOFFSETTO:+0000
TZNAME:GMT
DTSTART:20241027T010000
END:STANDARD
BEGIN:DAYLIGHT
TZOFFSETFROM:+0000
TZOFFSETTO:+0100
TZNAME:BST
DTSTART:20250330T010000
END:DAYLIGHT
BEGIN:STANDARD
TZOFFSETFROM:+0100
TZOFFSETTO:+0000
TZNAME:GMT
DTSTART:20251026T010000
END:STANDARD
BEGIN:DAYLIGHT
TZOFFSETFROM:+0000
TZOFFSETTO:+0100
TZNAME:BST
DTSTART:20260329T010000
END:DAYLIGHT
BEGIN:STANDARD
TZOFFSETFROM:+0100
TZOFFSETTO:+0000
TZNAME:GMT
DTSTART:20261025T010000
END:STANDARD
END:VTIMEZONE
BEGIN:VEVENT
DTSTART;TZID=Europe/London:20250418T193000
DTEND;TZID=Europe/London:20250418T201500
DTSTAMP:20260421T181635
CREATED:20250314T184501Z
LAST-MODIFIED:20250314T184503Z
UID:1942-1745004600-1745007300@maldonurc.org.uk
SUMMARY:Reflections at the Foot of the Cross (led by Kay Beighton)
DESCRIPTION:A quiet and reflective service to mark Good Friday\, led by Kay Beighton.
URL:https://maldonurc.org.uk/event/reflections-at-the-foot-of-the-cross-led-by-kay-beighton/
LOCATION:Essex
ATTACH;FMTTYPE=image/jpeg:https://maldonurc.org.uk/wp-content/uploads/2024/03/cross-3080144_1920.jpg
END:VEVENT
END:VCALENDAR