BEGIN:VCALENDAR
VERSION:2.0
PRODID:-//Maldon United Reformed Church - ECPv6.15.17.1//NONSGML v1.0//EN
CALSCALE:GREGORIAN
METHOD:PUBLISH
X-ORIGINAL-URL:https://maldonurc.org.uk
X-WR-CALDESC:Events for Maldon United Reformed Church
REFRESH-INTERVAL;VALUE=DURATION:PT1H
X-Robots-Tag:noindex
X-PUBLISHED-TTL:PT1H
BEGIN:VTIMEZONE
TZID:Europe/London
BEGIN:DAYLIGHT
TZOFFSETFROM:+0000
TZOFFSETTO:+0100
TZNAME:BST
DTSTART:20240331T010000
END:DAYLIGHT
BEGIN:STANDARD
TZOFFSETFROM:+0100
TZOFFSETTO:+0000
TZNAME:GMT
DTSTART:20241027T010000
END:STANDARD
BEGIN:DAYLIGHT
TZOFFSETFROM:+0000
TZOFFSETTO:+0100
TZNAME:BST
DTSTART:20250330T010000
END:DAYLIGHT
BEGIN:STANDARD
TZOFFSETFROM:+0100
TZOFFSETTO:+0000
TZNAME:GMT
DTSTART:20251026T010000
END:STANDARD
BEGIN:DAYLIGHT
TZOFFSETFROM:+0000
TZOFFSETTO:+0100
TZNAME:BST
DTSTART:20260329T010000
END:DAYLIGHT
BEGIN:STANDARD
TZOFFSETFROM:+0100
TZOFFSETTO:+0000
TZNAME:GMT
DTSTART:20261025T010000
END:STANDARD
END:VTIMEZONE
BEGIN:VEVENT
DTSTART;TZID=Europe/London:20250603T193000
DTEND;TZID=Europe/London:20250603T203000
DTSTAMP:20260421T164235
CREATED:20250524T150415Z
LAST-MODIFIED:20250524T150535Z
UID:1986-1748979000-1748982600@maldonurc.org.uk
SUMMARY:Meet the Coat of Hopes
DESCRIPTION:The Coat of Hopes is a patchwork coat that is on an ongoing walk through Britain. Made\, worn and walked by hundreds of people during and since its pilgrimage from the south coast of England to COP 26\, the UN climate summit\, in Glasgow autumn 2021.  \n\n\n\nThe Coat is made up of pieces of blanket into which people have worked their griefs\, remembrances\, prayers and hopes for the place they call home. It carries an invitation to share our love and responsibility in facing this climate and ecological emergency. \n\n\n\nYou are invited to come and find out about this amazing project\, to try on the coat if you wish\, and hear the stories of those who are walking and wearing it. \n\n\n\nThis is a FREE drop-in event\, all are very welcome (including children). Hot drinks will be available. To find out more about the project\, https://www.coatofhopes.uk/
URL:https://maldonurc.org.uk/event/meet-the-coat-of-hopes/
LOCATION:Essex
CATEGORIES:Community event
ATTACH;FMTTYPE=image/jpeg:https://maldonurc.org.uk/wp-content/uploads/2025/05/Coat-on-steps-scaled.jpg
END:VEVENT
END:VCALENDAR