BEGIN:VCALENDAR
VERSION:2.0
PRODID:-//Maldon United Reformed Church - ECPv6.15.17.1//NONSGML v1.0//EN
CALSCALE:GREGORIAN
METHOD:PUBLISH
X-ORIGINAL-URL:https://maldonurc.org.uk
X-WR-CALDESC:Events for Maldon United Reformed Church
REFRESH-INTERVAL;VALUE=DURATION:PT1H
X-Robots-Tag:noindex
X-PUBLISHED-TTL:PT1H
BEGIN:VTIMEZONE
TZID:Europe/London
BEGIN:DAYLIGHT
TZOFFSETFROM:+0000
TZOFFSETTO:+0100
TZNAME:BST
DTSTART:20240331T010000
END:DAYLIGHT
BEGIN:STANDARD
TZOFFSETFROM:+0100
TZOFFSETTO:+0000
TZNAME:GMT
DTSTART:20241027T010000
END:STANDARD
BEGIN:DAYLIGHT
TZOFFSETFROM:+0000
TZOFFSETTO:+0100
TZNAME:BST
DTSTART:20250330T010000
END:DAYLIGHT
BEGIN:STANDARD
TZOFFSETFROM:+0100
TZOFFSETTO:+0000
TZNAME:GMT
DTSTART:20251026T010000
END:STANDARD
BEGIN:DAYLIGHT
TZOFFSETFROM:+0000
TZOFFSETTO:+0100
TZNAME:BST
DTSTART:20260329T010000
END:DAYLIGHT
BEGIN:STANDARD
TZOFFSETFROM:+0100
TZOFFSETTO:+0000
TZNAME:GMT
DTSTART:20261025T010000
END:STANDARD
END:VTIMEZONE
BEGIN:VEVENT
DTSTART;TZID=Europe/London:20250831T103000
DTEND;TZID=Europe/London:20250831T113000
DTSTAMP:20260421T120919
CREATED:20250823T190551Z
LAST-MODIFIED:20250823T190620Z
UID:2011-1756636200-1756639800@maldonurc.org.uk
SUMMARY:Morning worship led by Kay Beighton
DESCRIPTION:Kay Beighton will lead a less formal summer service. \n\n\n\nPlease not this service will not be live streamed. \n\n\n\nThe service will be followed by refreshments.
URL:https://maldonurc.org.uk/event/morning-worship-led-by-kay-beighton/
LOCATION:Maldon United Reformed Church\, Market Hill\, Maldon\, Essex\, CM9 4PZ\, United Kingdom
CATEGORIES:2025 Service,Service
END:VEVENT
END:VCALENDAR