BEGIN:VCALENDAR
VERSION:2.0
PRODID:-//Maldon United Reformed Church - ECPv6.15.17.1//NONSGML v1.0//EN
CALSCALE:GREGORIAN
METHOD:PUBLISH
X-WR-CALNAME:Maldon United Reformed Church
X-ORIGINAL-URL:https://maldonurc.org.uk
X-WR-CALDESC:Events for Maldon United Reformed Church
REFRESH-INTERVAL;VALUE=DURATION:PT1H
X-Robots-Tag:noindex
X-PUBLISHED-TTL:PT1H
BEGIN:VTIMEZONE
TZID:Europe/London
BEGIN:DAYLIGHT
TZOFFSETFROM:+0000
TZOFFSETTO:+0100
TZNAME:BST
DTSTART:20240331T010000
END:DAYLIGHT
BEGIN:STANDARD
TZOFFSETFROM:+0100
TZOFFSETTO:+0000
TZNAME:GMT
DTSTART:20241027T010000
END:STANDARD
BEGIN:DAYLIGHT
TZOFFSETFROM:+0000
TZOFFSETTO:+0100
TZNAME:BST
DTSTART:20250330T010000
END:DAYLIGHT
BEGIN:STANDARD
TZOFFSETFROM:+0100
TZOFFSETTO:+0000
TZNAME:GMT
DTSTART:20251026T010000
END:STANDARD
BEGIN:DAYLIGHT
TZOFFSETFROM:+0000
TZOFFSETTO:+0100
TZNAME:BST
DTSTART:20260329T010000
END:DAYLIGHT
BEGIN:STANDARD
TZOFFSETFROM:+0100
TZOFFSETTO:+0000
TZNAME:GMT
DTSTART:20261025T010000
END:STANDARD
END:VTIMEZONE
BEGIN:VEVENT
DTSTART;TZID=Europe/London:20250302T103000
DTEND;TZID=Europe/London:20250302T113000
DTSTAMP:20260423T175904
CREATED:20241229T082402Z
LAST-MODIFIED:20250204T181208Z
UID:1800-1740911400-1740915000@maldonurc.org.uk
SUMMARY:Maldon URC Communion Service (led by Rev David Skipp)
DESCRIPTION:Our worship this morning will include Communion\, which we celebrate with alcohol-free grape juice and gluten-free bread so all can join us. \nThe service\, which will last around an hour\, is led by Rev David Skipp. Refreshments will be served after the service.
URL:https://maldonurc.org.uk/event/maldon-urc-sunday-morning-worship-led-by-rev-david-skipp-3/
LOCATION:Maldon United Reformed Church\, Market Hill\, Maldon\, Essex\, CM9 4PZ\, United Kingdom
CATEGORIES:Service
ATTACH;FMTTYPE=image/jpeg:https://maldonurc.org.uk/wp-content/uploads/2023/12/cups.jpg
END:VEVENT
BEGIN:VEVENT
DTSTART;TZID=Europe/London:20250309T103000
DTEND;TZID=Europe/London:20250309T113000
DTSTAMP:20260423T175904
CREATED:20241229T082402Z
LAST-MODIFIED:20241229T082403Z
UID:1801-1741516200-1741519800@maldonurc.org.uk
SUMMARY:Maldon URC Sunday Morning Worship (led by Rev Anne Sardeson)
DESCRIPTION:Join us for morning worship. The service\, which will last around an hour\, is led by Rev Anne Sardeson. Refreshments will be served after the service.
URL:https://maldonurc.org.uk/event/maldon-urc-sunday-morning-worship-led-by-rev-anne-sardeson-27/
LOCATION:Maldon United Reformed Church\, Market Hill\, Maldon\, Essex\, CM9 4PZ\, United Kingdom
CATEGORIES:Service
END:VEVENT
BEGIN:VEVENT
DTSTART;TZID=Europe/London:20250316T103000
DTEND;TZID=Europe/London:20250316T113000
DTSTAMP:20260423T175904
CREATED:20241229T082416Z
LAST-MODIFIED:20241229T082416Z
UID:1807-1742121000-1742124600@maldonurc.org.uk
SUMMARY:Maldon URC Sunday Morning Worship (led by Cyril Clarke)
DESCRIPTION:Join us for morning worship. The service\, which will last around an hour\, is led by Cyril Clarke. Refreshments will be served after the service.
URL:https://maldonurc.org.uk/event/maldon-urc-sunday-morning-worship-led-by-cyril-clarke-9/
LOCATION:Maldon United Reformed Church\, Market Hill\, Maldon\, Essex\, CM9 4PZ\, United Kingdom
CATEGORIES:Service
END:VEVENT
BEGIN:VEVENT
DTSTART;TZID=Europe/London:20250323T103000
DTEND;TZID=Europe/London:20250323T113000
DTSTAMP:20260423T175904
CREATED:20241229T082416Z
LAST-MODIFIED:20241229T082416Z
UID:1808-1742725800-1742729400@maldonurc.org.uk
SUMMARY:Maldon URC Sunday Morning Worship (led by Rev Anne Sardeson)
DESCRIPTION:Join us for morning worship. The service\, which will last around an hour\, is led by Rev Anne Sardeson. Refreshments will be served after the service.
URL:https://maldonurc.org.uk/event/maldon-urc-sunday-morning-worship-led-by-rev-anne-sardeson-28/
LOCATION:Maldon United Reformed Church\, Market Hill\, Maldon\, Essex\, CM9 4PZ\, United Kingdom
CATEGORIES:Service
END:VEVENT
BEGIN:VEVENT
DTSTART;TZID=Europe/London:20250330T103000
DTEND;TZID=Europe/London:20250330T113000
DTSTAMP:20260423T175904
CREATED:20241229T082416Z
LAST-MODIFIED:20250204T181301Z
UID:1809-1743330600-1743334200@maldonurc.org.uk
SUMMARY:Maldon URC Mothering Sunday Worship (led by Kay Beighton)
DESCRIPTION:Join us for morning worship\, with special prayers for those who have mothered us. \nThe service\, which will last around an hour\, is led by Kay Beighton. Refreshments will be served after the service.
URL:https://maldonurc.org.uk/event/maldon-urc-sunday-morning-worship-led-by-kay-beighton-10/
LOCATION:Maldon United Reformed Church\, Market Hill\, Maldon\, Essex\, CM9 4PZ\, United Kingdom
CATEGORIES:Service
ATTACH;FMTTYPE=image/jpeg:https://maldonurc.org.uk/wp-content/uploads/2024/02/wild-daffodils-7106921_1920.jpg
END:VEVENT
END:VCALENDAR