BEGIN:VCALENDAR
VERSION:2.0
PRODID:-//Maldon United Reformed Church - ECPv6.15.17.1//NONSGML v1.0//EN
CALSCALE:GREGORIAN
METHOD:PUBLISH
X-WR-CALNAME:Maldon United Reformed Church
X-ORIGINAL-URL:https://maldonurc.org.uk
X-WR-CALDESC:Events for Maldon United Reformed Church
REFRESH-INTERVAL;VALUE=DURATION:PT1H
X-Robots-Tag:noindex
X-PUBLISHED-TTL:PT1H
BEGIN:VTIMEZONE
TZID:Europe/London
BEGIN:DAYLIGHT
TZOFFSETFROM:+0000
TZOFFSETTO:+0100
TZNAME:BST
DTSTART:20240331T010000
END:DAYLIGHT
BEGIN:STANDARD
TZOFFSETFROM:+0100
TZOFFSETTO:+0000
TZNAME:GMT
DTSTART:20241027T010000
END:STANDARD
BEGIN:DAYLIGHT
TZOFFSETFROM:+0000
TZOFFSETTO:+0100
TZNAME:BST
DTSTART:20250330T010000
END:DAYLIGHT
BEGIN:STANDARD
TZOFFSETFROM:+0100
TZOFFSETTO:+0000
TZNAME:GMT
DTSTART:20251026T010000
END:STANDARD
BEGIN:DAYLIGHT
TZOFFSETFROM:+0000
TZOFFSETTO:+0100
TZNAME:BST
DTSTART:20260329T010000
END:DAYLIGHT
BEGIN:STANDARD
TZOFFSETFROM:+0100
TZOFFSETTO:+0000
TZNAME:GMT
DTSTART:20261025T010000
END:STANDARD
END:VTIMEZONE
BEGIN:VEVENT
DTSTART;TZID=Europe/London:20250601T103000
DTEND;TZID=Europe/London:20250601T113000
DTSTAMP:20260421T181141
CREATED:20241229T082431Z
LAST-MODIFIED:20250523T084918Z
UID:1815-1748773800-1748777400@maldonurc.org.uk
SUMMARY:Maldon URC Sunday Morning Communion Service (led by the Rev Anne Sardeson)
DESCRIPTION:Join us for morning worship. The service\, which will last around an hour\, is led by our Minister\, the Rev Anne Sardeson and will include Communion. All are welcome to join us for Communion\, which is celebrated with non-alcoholic wine and gluten-free bread. Refreshments will be served after the service.
URL:https://maldonurc.org.uk/event/maldon-urc-sunday-morning-worship-led-by-tbc-19/
LOCATION:Maldon United Reformed Church\, Market Hill\, Maldon\, Essex\, CM9 4PZ\, United Kingdom
CATEGORIES:Service
ATTACH;FMTTYPE=image/jpeg:https://maldonurc.org.uk/wp-content/uploads/2023/12/cups.jpg
END:VEVENT
BEGIN:VEVENT
DTSTART;TZID=Europe/London:20250608T103000
DTEND;TZID=Europe/London:20250608T113000
DTSTAMP:20260421T181141
CREATED:20240807T165823Z
LAST-MODIFIED:20250523T085301Z
UID:1453-1749378600-1749382200@maldonurc.org.uk
SUMMARY:JOINT SERVICE AT BURNHAM URC
DESCRIPTION:Please note that there will be NO morning worship at Maldon United Reformed Church this morning. \n\n\n\nInstead\, we will be joining our sister church Burnham URC for a joint service\, led by the Rev Anne Sardeson.  \n\n\n\nPlease note that this service will not be broadcast.
URL:https://maldonurc.org.uk/event/joint-service-at-burnham-urc/
LOCATION:Burnham URC\, 53 Station Rd\, Burnham-on-Crouch\, CM0 8HF\, United Kingdom
CATEGORIES:Service
END:VEVENT
BEGIN:VEVENT
DTSTART;TZID=Europe/London:20250622T103000
DTEND;TZID=Europe/London:20250622T113000
DTSTAMP:20260421T181141
CREATED:20250620T182612Z
LAST-MODIFIED:20250620T182619Z
UID:1992-1750588200-1750591800@maldonurc.org.uk
SUMMARY:Morning worship led by the Rev David Skipp
DESCRIPTION:Join us for morning worship led by the Rev David Skipp. \n\n\n\nThe service will last around an hour and will be followed by refreshments.
URL:https://maldonurc.org.uk/event/morning-worship-led-by-the-rev-david-skipp-2/
LOCATION:Maldon United Reformed Church\, Market Hill\, Maldon\, Essex\, CM9 4PZ\, United Kingdom
CATEGORIES:2025 Service,Service
END:VEVENT
BEGIN:VEVENT
DTSTART;TZID=Europe/London:20250629T103000
DTEND;TZID=Europe/London:20250629T113000
DTSTAMP:20260421T181141
CREATED:20250620T182930Z
LAST-MODIFIED:20250620T182942Z
UID:1994-1751193000-1751196600@maldonurc.org.uk
SUMMARY:Morning worship led by Maureen Crilley
DESCRIPTION:Guest preacher Maureen Crilley will be taking our service this morning. \n\n\n\nThe service will last around an hour and will be followed by refreshments.
URL:https://maldonurc.org.uk/event/morning-worship-led-by-maureen-crilley-2/
LOCATION:Maldon United Reformed Church\, Market Hill\, Maldon\, Essex\, CM9 4PZ\, United Kingdom
CATEGORIES:2025 Service,Service
END:VEVENT
END:VCALENDAR