BEGIN:VCALENDAR
VERSION:2.0
PRODID:-//Maldon United Reformed Church - ECPv6.15.17.1//NONSGML v1.0//EN
CALSCALE:GREGORIAN
METHOD:PUBLISH
X-ORIGINAL-URL:https://maldonurc.org.uk
X-WR-CALDESC:Events for Maldon United Reformed Church
REFRESH-INTERVAL;VALUE=DURATION:PT1H
X-Robots-Tag:noindex
X-PUBLISHED-TTL:PT1H
BEGIN:VTIMEZONE
TZID:Europe/London
BEGIN:DAYLIGHT
TZOFFSETFROM:+0000
TZOFFSETTO:+0100
TZNAME:BST
DTSTART:20230326T010000
END:DAYLIGHT
BEGIN:STANDARD
TZOFFSETFROM:+0100
TZOFFSETTO:+0000
TZNAME:GMT
DTSTART:20231029T010000
END:STANDARD
BEGIN:DAYLIGHT
TZOFFSETFROM:+0000
TZOFFSETTO:+0100
TZNAME:BST
DTSTART:20240331T010000
END:DAYLIGHT
BEGIN:STANDARD
TZOFFSETFROM:+0100
TZOFFSETTO:+0000
TZNAME:GMT
DTSTART:20241027T010000
END:STANDARD
BEGIN:DAYLIGHT
TZOFFSETFROM:+0000
TZOFFSETTO:+0100
TZNAME:BST
DTSTART:20250330T010000
END:DAYLIGHT
BEGIN:STANDARD
TZOFFSETFROM:+0100
TZOFFSETTO:+0000
TZNAME:GMT
DTSTART:20251026T010000
END:STANDARD
END:VTIMEZONE
BEGIN:VEVENT
DTSTART;TZID=Europe/London:20241105T143000
DTEND;TZID=Europe/London:20241105T153000
DTSTAMP:20260425T023205
CREATED:20241101T163540Z
LAST-MODIFIED:20241101T163541Z
UID:1492-1730817000-1730820600@maldonurc.org.uk
SUMMARY:Melodies for Memories
DESCRIPTION:A fun musical monthly activity for people living with dementia and their carers! \n\n\n\nFamiliar music is proven to unlock memories and promote wellbeing in those with Alzheimer’s and similar conditions. \n\n\n\nIn this enjoyable event\, talented pianist and URC Singing Group leader Richard Maison invites you to join him for a sing-along\, with favourite songs and tunes from the past. \n\n\n\nSo gather around the piano and come along for a sing-song – there is no need to book and the event is free. Just pop along and join in!
URL:https://maldonurc.org.uk/event/melodies-for-memories-6/
LOCATION:Maldon United Reformed Church\, Market Hill\, Maldon\, Essex\, CM9 4PZ\, United Kingdom
CATEGORIES:Community event
ATTACH;FMTTYPE=image/jpeg:https://maldonurc.org.uk/wp-content/uploads/2024/02/IMG_1381-scaled.jpg
END:VEVENT
BEGIN:VEVENT
DTSTART;TZID=Europe/London:20241114T130000
DTEND;TZID=Europe/London:20241114T140000
DTSTAMP:20260425T023205
CREATED:20231229T150527Z
LAST-MODIFIED:20240807T163309Z
UID:1252-1731589200-1731592800@maldonurc.org.uk
SUMMARY:Emma Halnan and Antonio Oyazarbal – flute and piano
DESCRIPTION:Emma & Antonio will play works by female composers – Dora Bright\, Madeleine Dring & Lili Boulanger.
URL:https://maldonurc.org.uk/event/emma-halnan-and-antonio-oyazarbal-flute-and-piano/
LOCATION:Maldon United Reformed Church\, Market Hill\, Maldon\, Essex\, CM9 4PZ\, United Kingdom
CATEGORIES:Concert
ATTACH;FMTTYPE=image/jpeg:https://maldonurc.org.uk/wp-content/uploads/2023/12/Emma.jpg
END:VEVENT
END:VCALENDAR